BEGIN:VCALENDAR
VERSION:2.0
PRODID:-//Tukios.com/
BEGIN:VEVENT
UID:232a07a3-8449-4ad2-a723-8d9a58ca0dca@www.emfuneralhome.com
DTSTAMP:20260422T195953Z
DTSTART:20260425T180000Z
DTEND:20260425T190000Z
SUMMARY:Graveside Service
DESCRIPTION:
URL:https://www.emfuneralhome.com/obituaries/wanda-cobb
LOCATION:East View Cemetery Miles Avenue  Union City TN 38261
GEO:36.4175599;-89.0408193
END:VEVENT
END:VCALENDAR