BEGIN:VCALENDAR
VERSION:2.0
PRODID:-//Tukios.com/
BEGIN:VEVENT
UID:dd3d2828-7e85-4d83-8a1c-ae9e27ef96c6@www.emfuneralhome.com
DTSTAMP:20260422T195953Z
DTSTART:20260425T200000Z
DTEND:20260425T210000Z
SUMMARY:Funeral Service
DESCRIPTION:
URL:https://www.emfuneralhome.com/obituaries/doris-toon
LOCATION: 1200 South Miles Ave.  Union City TN 38261
GEO:36.4139559;-89.0408385
END:VEVENT
END:VCALENDAR