BEGIN:VCALENDAR
VERSION:2.0
PRODID:-//Tukios.com/
BEGIN:VEVENT
UID:82cea646-3176-46a5-990e-69f3479cf710@www.emfuneralhome.com
DTSTAMP:20260422T195953Z
DTSTART:20260425T180000Z
DTEND:20260425T200000Z
SUMMARY:Visitation
DESCRIPTION:
URL:https://www.emfuneralhome.com/obituaries/doris-toon
LOCATION: 1200 South Miles Ave.  Union City TN 38261
GEO:36.4139559;-89.0408385
END:VEVENT
END:VCALENDAR