BEGIN:VCALENDAR
VERSION:2.0
PRODID:-//Tukios.com/
BEGIN:VEVENT
UID:3945edb6-35b9-47aa-8cd8-00a92149d922@www.emfuneralhome.com
DTSTAMP:20260422T195953Z
DTSTART:20260423T160000Z
DTEND:20260423T170000Z
SUMMARY:Memorial Service
DESCRIPTION:
URL:https://www.emfuneralhome.com/obituaries/cloyd-ash
LOCATION:Edmaiston - Mosley Funeral Home 1200 South Miles Ave.  Union 
	City TN 38261
GEO:36.4139559;-89.0408385
END:VEVENT
END:VCALENDAR