BEGIN:VCALENDAR
VERSION:2.0
PRODID:-//Tukios.com/
BEGIN:VEVENT
UID:b2622475-f543-4855-90cc-434d4633d5cd@www.emfuneralhome.com
DTSTAMP:20260422T195953Z
DTSTART:20260423T140000Z
DTEND:20260423T160000Z
SUMMARY:Visitation
DESCRIPTION:
URL:https://www.emfuneralhome.com/obituaries/cloyd-ash
LOCATION:Edmaiston - Mosley Funeral Home 1200 South Miles Ave.  Union 
	City TN 38261
GEO:36.4139559;-89.0408385
END:VEVENT
END:VCALENDAR