BEGIN:VCALENDAR
VERSION:2.0
PRODID:-//Tukios.com/
BEGIN:VEVENT
UID:c4705dc7-c99e-4ba8-a344-5fded16fe201@www.emfuneralhome.com
DTSTAMP:20260423T222412Z
DTSTART:20260425T160000Z
DTEND:20260425T170000Z
SUMMARY:Funeral Service
DESCRIPTION:
URL:https://www.emfuneralhome.com/obituaries/christopher-audwin-peery
LOCATION: 1200 South Miles Ave.  Union City TN 38261
GEO:36.4139559;-89.0408385
END:VEVENT
END:VCALENDAR