BEGIN:VCALENDAR
VERSION:2.0
PRODID:-//Tukios.com/
BEGIN:VEVENT
UID:a237d375-dabb-408f-b19f-5a3c5587fd99@www.emfuneralhome.com
DTSTAMP:20260423T222357Z
DTSTART:20260425T140000Z
DTEND:20260425T160000Z
SUMMARY:Visitation
DESCRIPTION:
URL:https://www.emfuneralhome.com/obituaries/christopher-audwin-peery
LOCATION: 1200 South Miles Ave.  Union City TN 38261
GEO:36.4139559;-89.0408385
END:VEVENT
END:VCALENDAR